BEGIN:VCALENDAR
VERSION:2.0
PRODID:-//Date iCal//NONSGML kigkonsult.se iCalcreator 2.20.2//
METHOD:PUBLISH
BEGIN:VTIMEZONE
TZID:America/Toronto
BEGIN:STANDARD
DTSTART:20251102T020000
TZOFFSETFROM:-0400
TZOFFSETTO:-0500
TZNAME:EST
END:STANDARD
BEGIN:DAYLIGHT
DTSTART:20260308T020000
TZOFFSETFROM:-0500
TZOFFSETTO:-0400
TZNAME:EDT
END:DAYLIGHT
END:VTIMEZONE
BEGIN:VEVENT
UID:calendar.2711.events_uoft_date.0@www.medieval.utoronto.ca
CREATED:20260119T155407Z
DESCRIPTION:\nWhen and Where: \nFriday, February 06, 2026 2:30 pm to 4:30
  pm \n 3rd Floor \n Lillian Massey Building \n 125 Queen's Park, Toronto\
 , ON, M5S 2C7 \n\nSpeakers \nDorothea Kullma\n\nDescription: \nDorothea K
 ullma\n, Associate Professor at the Department of French and the Centre f
 or Medieval Studies, presents A pacifist heroic epic? The 12th-century 'G
 irart de Roussillon' in its political and ideological context(s). Biograph
 yDorothea Kullma\n (PhD Göttingen 1990, Habilitation Göttingen 1998) has 
 taught at Göttingen, Heidelberg, and Avignon, before becoming an Associ
 ate Professor in French and Medieval Studies at the University of Toronto 
 in 2005. She is the author of Verwandtschaft in epischer Dichtung (Tübinge
 n: Niemeyer, 1992), \nDescription:. Theorie und Praxis der Beschreibung 
 von Chateaubriand bis Zola (Heidelberg: Winter, 2004), and has published
  numerous articles on medieval and modern Romance literatures. A specialis
 t of Old French and Old Occitan epic, she is also interested in vernacula
 r religious literature, in classical tradition and in the interaction bet
 ween languages in the Middle Ages, as well as in diachronic linguistics a
 nd historical narratology.REGISTRATION REQUIRED \n\nContact Information: 
 \n Centre for Medieval Studies medieval.communications@utoronto.ca Centre 
 for Medieval Studies \n125 Queen's Park, Toronto, ON, M5S 2C7 \n\nCateg
 ories \n Lectures \n\nAudiences \n Alumni and FriendsCommunityFacultyFirst
 -Year StudentsGraduate StudentsGraduating StudentsProspective Graduate Stu
 dents
DTSTART;TZID=America/Toronto:20260206T143000
DTEND;TZID=America/Toronto:20260206T163000
LAST-MODIFIED:20260119T172139Z
LOCATION:125 Queen's Park, Toronto, ON, M5S 2C7
SUMMARY:Dorothea Kullmann, A pacifist heroic epic? The 12th-century 'Girar
 t de Roussillon' in its political and ideological context(s)
URL;TYPE=URI:https://www.medieval.utoronto.ca/events/dorothea-kullmann-paci
 fist-heroic-epic-12th-century-girart-de-roussillon-its-political-and
END:VEVENT
END:VCALENDAR
